BEGIN:VCALENDAR
VERSION:2.0
PRODID:-//ddaysoftware.com//NONSGML DDay.iCal 1.0//EN
BEGIN:VTIMEZONE
TZID:W. Europe Standard Time
BEGIN:STANDARD
DTSTART:20251002T030000
RRULE:FREQ=YEARLY;BYDAY=-1SU;BYHOUR=3;BYMINUTE=0;BYMONTH=10
TZNAME:Mitteleuropäische Zeit
TZOFFSETFROM:+0200
TZOFFSETTO:+0100
END:STANDARD
BEGIN:DAYLIGHT
DTSTART:20250301T020000
RRULE:FREQ=YEARLY;BYDAY=-1SU;BYHOUR=2;BYMINUTE=0;BYMONTH=3
TZNAME:Mitteleuropäische Sommerzeit
TZOFFSETFROM:+0100
TZOFFSETTO:+0200
END:DAYLIGHT
END:VTIMEZONE
BEGIN:VEVENT
CATEGORIES:Feuerwehr
CATEGORIES:Vereine
DESCRIPTION:\n\nhttps://www.markt-zell.de/aktuelles/veranstaltungen/freiwil
 lige-feuerwehr-kleinlosnitz-fruehschoppen/
DTEND:20260514T110000
DTSTAMP:20260424T115206Z
DTSTART:20260514T100000
SEQUENCE:0
SUMMARY:Freiwillige Feuerwehr Kleinlosnitz - Frühschoppen im Dorfhaus Löste
 n 
UID:7050
URL:https://www.markt-zell.de/aktuelles/veranstaltungen/freiwillige-feuerwe
 hr-kleinlosnitz-fruehschoppen/
END:VEVENT
END:VCALENDAR
