BEGIN:VCALENDAR
VERSION:2.0
PRODID:-//ddaysoftware.com//NONSGML DDay.iCal 1.0//EN
BEGIN:VTIMEZONE
TZID:W. Europe Standard Time
BEGIN:STANDARD
DTSTART:20251002T030000
RRULE:FREQ=YEARLY;BYDAY=-1SU;BYHOUR=3;BYMINUTE=0;BYMONTH=10
TZNAME:Mitteleuropäische Zeit
TZOFFSETFROM:+0200
TZOFFSETTO:+0100
END:STANDARD
BEGIN:DAYLIGHT
DTSTART:20250301T020000
RRULE:FREQ=YEARLY;BYDAY=-1SU;BYHOUR=2;BYMINUTE=0;BYMONTH=3
TZNAME:Mitteleuropäische Sommerzeit
TZOFFSETFROM:+0100
TZOFFSETTO:+0200
END:DAYLIGHT
END:VTIMEZONE
BEGIN:VEVENT
CATEGORIES:Vereine
DESCRIPTION:\n\nhttps://www.markt-zell.de/aktuelles/veranstaltungen/hollers
 taudn-gartenverein-zell-kreisgartentag/
DTEND;VALUE=DATE:20260518
DTSTAMP:20260424T114830Z
DTSTART;VALUE=DATE:20260517
SEQUENCE:0
SUMMARY: Hollerstaud'n Gartenverein Zell - Kreisgartentag in Schwarzenbach/
 Saale 
UID:6940
URL:https://www.markt-zell.de/aktuelles/veranstaltungen/hollerstaudn-garten
 verein-zell-kreisgartentag/
END:VEVENT
END:VCALENDAR
