BEGIN:VCALENDAR
VERSION:2.0
PRODID:-//ddaysoftware.com//NONSGML DDay.iCal 1.0//EN
BEGIN:VTIMEZONE
TZID:W. Europe Standard Time
BEGIN:STANDARD
DTSTART:20251002T030000
RRULE:FREQ=YEARLY;BYDAY=-1SU;BYHOUR=3;BYMINUTE=0;BYMONTH=10
TZNAME:Mitteleuropäische Zeit
TZOFFSETFROM:+0200
TZOFFSETTO:+0100
END:STANDARD
BEGIN:DAYLIGHT
DTSTART:20250301T020000
RRULE:FREQ=YEARLY;BYDAY=-1SU;BYHOUR=2;BYMINUTE=0;BYMONTH=3
TZNAME:Mitteleuropäische Sommerzeit
TZOFFSETFROM:+0100
TZOFFSETTO:+0200
END:DAYLIGHT
END:VTIMEZONE
BEGIN:VEVENT
CATEGORIES:Landjugend
CATEGORIES:Vereine
DESCRIPTION:\n\nhttps://www.markt-zell.de/aktuelles/veranstaltungen/landjug
 end-grosslosnitz-e-v-haidbergkaerwa-jubilaeum/
DTEND:20260524T000000
DTSTAMP:20260424T130158Z
DTSTART;VALUE=DATE:20260521
SEQUENCE:0
SUMMARY:Landjugend Großlosnitz e. V. - Haidbergkärwa - 55. Jubiläum mit Umz
 ug am 24.05.
UID:7425
URL:https://www.markt-zell.de/aktuelles/veranstaltungen/landjugend-grosslos
 nitz-e-v-haidbergkaerwa-jubilaeum/
END:VEVENT
END:VCALENDAR
